BEGIN:VCALENDAR
VERSION:2.0
PRODID:-//gwunder.reisen - ECPv6.15.20//NONSGML v1.0//EN
CALSCALE:GREGORIAN
METHOD:PUBLISH
X-ORIGINAL-URL:https://gwunder.reisen
X-WR-CALDESC:Veranstaltungen für gwunder.reisen
REFRESH-INTERVAL;VALUE=DURATION:PT1H
X-Robots-Tag:noindex
X-PUBLISHED-TTL:PT1H
BEGIN:VTIMEZONE
TZID:Europe/Berlin
BEGIN:DAYLIGHT
TZOFFSETFROM:+0100
TZOFFSETTO:+0200
TZNAME:CEST
DTSTART:20240331T010000
END:DAYLIGHT
BEGIN:STANDARD
TZOFFSETFROM:+0200
TZOFFSETTO:+0100
TZNAME:CET
DTSTART:20241027T010000
END:STANDARD
BEGIN:DAYLIGHT
TZOFFSETFROM:+0100
TZOFFSETTO:+0200
TZNAME:CEST
DTSTART:20250330T010000
END:DAYLIGHT
BEGIN:STANDARD
TZOFFSETFROM:+0200
TZOFFSETTO:+0100
TZNAME:CET
DTSTART:20251026T010000
END:STANDARD
BEGIN:DAYLIGHT
TZOFFSETFROM:+0100
TZOFFSETTO:+0200
TZNAME:CEST
DTSTART:20260329T010000
END:DAYLIGHT
BEGIN:STANDARD
TZOFFSETFROM:+0200
TZOFFSETTO:+0100
TZNAME:CET
DTSTART:20261025T010000
END:STANDARD
END:VTIMEZONE
BEGIN:VEVENT
DTSTART;TZID=Europe/Berlin:20251105T103000
DTEND;TZID=Europe/Berlin:20251105T110000
DTSTAMP:20260419T141118
CREATED:20241230T232132Z
LAST-MODIFIED:20241230T232132Z
UID:2501-1762338600-1762340400@gwunder.reisen
SUMMARY:Buchstart | «Gigampfe\, Värsli stampfe»
DESCRIPTION:
URL:https://gwunder.reisen/event/buchstart-gigampfe-vaersli-stampfe-28/
LOCATION:Stadtbibliothek Aarau
CATEGORIES:Buchstart
END:VEVENT
BEGIN:VEVENT
DTSTART;TZID=Europe/Berlin:20251105T093000
DTEND;TZID=Europe/Berlin:20251105T100000
DTSTAMP:20260419T141118
CREATED:20241230T232054Z
LAST-MODIFIED:20241230T232054Z
UID:2499-1762335000-1762336800@gwunder.reisen
SUMMARY:Buchstart | «Gigampfe\, Värsli stampfe»
DESCRIPTION:
URL:https://gwunder.reisen/event/buchstart-gigampfe-vaersli-stampfe-27/
LOCATION:Stadtbibliothek Aarau
CATEGORIES:Buchstart
END:VEVENT
BEGIN:VEVENT
DTSTART;TZID=Europe/Berlin:20251104T100000
DTEND;TZID=Europe/Berlin:20251104T100000
DTSTAMP:20260419T141118
CREATED:20241230T223431Z
LAST-MODIFIED:20241230T223431Z
UID:2433-1762250400-1762250400@gwunder.reisen
SUMMARY:Buchstart | «Lirum Larum Verslispiele»
DESCRIPTION:
URL:https://gwunder.reisen/event/buchstart-lirum-larum-verslispiele-4/
LOCATION:Bibliothek Mellingen
CATEGORIES:Buchstart
END:VEVENT
BEGIN:VEVENT
DTSTART;TZID=Europe/Berlin:20251022T103000
DTEND;TZID=Europe/Berlin:20251022T110000
DTSTAMP:20260419T141118
CREATED:20250302T205946Z
LAST-MODIFIED:20250302T205946Z
UID:2631-1761129000-1761130800@gwunder.reisen
SUMMARY:Buchstart | "Buchstartmorgen"
DESCRIPTION:
URL:https://gwunder.reisen/event/buchstart-buchstartmorgen-27/
LOCATION:Stadtbibliothek Lenzburg
CATEGORIES:Buchstart
END:VEVENT
BEGIN:VEVENT
DTSTART;TZID=Europe/Berlin:20251022T093000
DTEND;TZID=Europe/Berlin:20251022T100000
DTSTAMP:20260419T141118
CREATED:20250302T205848Z
LAST-MODIFIED:20250302T205904Z
UID:2629-1761125400-1761127200@gwunder.reisen
SUMMARY:Buchstart | "Buchstartmorgen"
DESCRIPTION:
URL:https://gwunder.reisen/event/buchstart-buchstartmorgen-26/
LOCATION:Stadtbibliothek Lenzburg
CATEGORIES:Buchstart
END:VEVENT
BEGIN:VEVENT
DTSTART;TZID=Europe/Berlin:20251021T101500
DTEND;TZID=Europe/Berlin:20251021T104500
DTSTAMP:20260419T141118
CREATED:20241230T234056Z
LAST-MODIFIED:20241230T234056Z
UID:2537-1761041700-1761043500@gwunder.reisen
SUMMARY:Buchstart | «Värsli-Bus»
DESCRIPTION:
URL:https://gwunder.reisen/event/buchstart-vaersli-bus-24/
LOCATION:Gemeindebibliothek Buchs AG
CATEGORIES:Buchstart
END:VEVENT
BEGIN:VEVENT
DTSTART;TZID=Europe/Berlin:20251021T091500
DTEND;TZID=Europe/Berlin:20251021T094500
DTSTAMP:20260419T141118
CREATED:20241230T233959Z
LAST-MODIFIED:20241230T233959Z
UID:2535-1761038100-1761039900@gwunder.reisen
SUMMARY:Buchstart | «Värsli-Bus»
DESCRIPTION:
URL:https://gwunder.reisen/event/buchstart-vaersli-bus-23/
LOCATION:Gemeindebibliothek Buchs AG
CATEGORIES:Buchstart
END:VEVENT
BEGIN:VEVENT
DTSTART;TZID=Europe/Berlin:20250923T101500
DTEND;TZID=Europe/Berlin:20250923T104500
DTSTAMP:20260419T141118
CREATED:20241230T233923Z
LAST-MODIFIED:20241230T233923Z
UID:2533-1758622500-1758624300@gwunder.reisen
SUMMARY:Buchstart | «Värsli-Bus»
DESCRIPTION:
URL:https://gwunder.reisen/event/buchstart-vaersli-bus-22/
LOCATION:Gemeindebibliothek Buchs AG
CATEGORIES:Buchstart
END:VEVENT
BEGIN:VEVENT
DTSTART;TZID=Europe/Berlin:20250923T091500
DTEND;TZID=Europe/Berlin:20250923T094500
DTSTAMP:20260419T141118
CREATED:20241230T233820Z
LAST-MODIFIED:20241230T233820Z
UID:2531-1758618900-1758620700@gwunder.reisen
SUMMARY:Buchstart | «Värsli-Bus»
DESCRIPTION:
URL:https://gwunder.reisen/event/buchstart-vaersli-bus-21/
LOCATION:Gemeindebibliothek Buchs AG
CATEGORIES:Buchstart
END:VEVENT
BEGIN:VEVENT
DTSTART;TZID=Europe/Berlin:20250920T090000
DTEND;TZID=Europe/Berlin:20250920T090000
DTSTAMP:20260419T141118
CREATED:20241230T224124Z
LAST-MODIFIED:20241230T224124Z
UID:2443-1758358800-1758358800@gwunder.reisen
SUMMARY:Buchstart | «Lirum\, Larum\, Reim & Spiel»
DESCRIPTION:
URL:https://gwunder.reisen/event/buchstart-lirum-larum-reim-spiel-5/
LOCATION:Schul- und Gemeindebibliothek Rothrist
CATEGORIES:Buchstart
END:VEVENT
BEGIN:VEVENT
DTSTART;TZID=Europe/Berlin:20250912T103000
DTEND;TZID=Europe/Berlin:20250912T110000
DTSTAMP:20260419T141118
CREATED:20241230T231952Z
LAST-MODIFIED:20241230T231952Z
UID:2497-1757673000-1757674800@gwunder.reisen
SUMMARY:Buchstart | «Gigampfe\, Värsli stampfe»
DESCRIPTION:
URL:https://gwunder.reisen/event/buchstart-gigampfe-vaersli-stampfe-26/
LOCATION:Stadtbibliothek Aarau
CATEGORIES:Buchstart
END:VEVENT
BEGIN:VEVENT
DTSTART;TZID=Europe/Berlin:20250912T093000
DTEND;TZID=Europe/Berlin:20250912T100000
DTSTAMP:20260419T141118
CREATED:20241230T231915Z
LAST-MODIFIED:20241230T231915Z
UID:2495-1757669400-1757671200@gwunder.reisen
SUMMARY:Buchstart | «Gigampfe\, Värsli stampfe»
DESCRIPTION:
URL:https://gwunder.reisen/event/buchstart-gigampfe-vaersli-stampfe-25/
LOCATION:Stadtbibliothek Aarau
CATEGORIES:Buchstart
END:VEVENT
BEGIN:VEVENT
DTSTART;TZID=Europe/Berlin:20250909T100000
DTEND;TZID=Europe/Berlin:20250909T103000
DTSTAMP:20260419T141118
CREATED:20240708T120732Z
LAST-MODIFIED:20240708T120732Z
UID:2378-1757412000-1757413800@gwunder.reisen
SUMMARY:Buchstart | "Värslizyt"
DESCRIPTION:
URL:https://gwunder.reisen/event/buchstart-vaerslizyt-4/
LOCATION:Stadtbibliothek Brugg
CATEGORIES:Buchstart
END:VEVENT
BEGIN:VEVENT
DTSTART;TZID=Europe/Berlin:20250903T103000
DTEND;TZID=Europe/Berlin:20250903T110000
DTSTAMP:20260419T141118
CREATED:20241230T231825Z
LAST-MODIFIED:20241230T231825Z
UID:2493-1756895400-1756897200@gwunder.reisen
SUMMARY:Buchstart | «Gigampfe\, Värsli stampfe»
DESCRIPTION:
URL:https://gwunder.reisen/event/buchstart-gigampfe-vaersli-stampfe-24/
LOCATION:Stadtbibliothek Aarau
CATEGORIES:Buchstart
END:VEVENT
BEGIN:VEVENT
DTSTART;TZID=Europe/Berlin:20250903T093000
DTEND;TZID=Europe/Berlin:20250903T100000
DTSTAMP:20260419T141118
CREATED:20241230T231557Z
LAST-MODIFIED:20241230T231557Z
UID:2491-1756891800-1756893600@gwunder.reisen
SUMMARY:Buchstart | «Gigampfe\, Värsli stampfe»
DESCRIPTION:
URL:https://gwunder.reisen/event/buchstart-gigampfe-vaersli-stampfe-23/
LOCATION:Stadtbibliothek Aarau
CATEGORIES:Buchstart
END:VEVENT
BEGIN:VEVENT
DTSTART;TZID=Europe/Berlin:20250829T093000
DTEND;TZID=Europe/Berlin:20250829T093000
DTSTAMP:20260419T141118
CREATED:20241230T222713Z
LAST-MODIFIED:20241230T222713Z
UID:2421-1756459800-1756459800@gwunder.reisen
SUMMARY:Buchstart | «Zwärgehöck»
DESCRIPTION:
URL:https://gwunder.reisen/event/buchstart-zwaergehoeck-3/
LOCATION:Gemeinde- und Oberstufenbibliothek Reinach AG
CATEGORIES:Buchstart
END:VEVENT
BEGIN:VEVENT
DTSTART;TZID=Europe/Berlin:20250827T103000
DTEND;TZID=Europe/Berlin:20250827T110000
DTSTAMP:20260419T141118
CREATED:20241230T225457Z
LAST-MODIFIED:20241230T225457Z
UID:2457-1756290600-1756292400@gwunder.reisen
SUMMARY:Buchstart | «Värsli»
DESCRIPTION:
URL:https://gwunder.reisen/event/buchstart-vaersli-4/
LOCATION:Stadtbibliothek Zofingen
CATEGORIES:Buchstart
END:VEVENT
BEGIN:VEVENT
DTSTART;TZID=Europe/Berlin:20250827T093000
DTEND;TZID=Europe/Berlin:20250827T100000
DTSTAMP:20260419T141118
CREATED:20241230T225418Z
LAST-MODIFIED:20241230T225418Z
UID:2455-1756287000-1756288800@gwunder.reisen
SUMMARY:Buchstart | «Värsli»
DESCRIPTION:
URL:https://gwunder.reisen/event/buchstart-vaersli-3/
LOCATION:Stadtbibliothek Zofingen
CATEGORIES:Buchstart
END:VEVENT
BEGIN:VEVENT
DTSTART;TZID=Europe/Berlin:20250826T101500
DTEND;TZID=Europe/Berlin:20250826T104500
DTSTAMP:20260419T141118
CREATED:20241230T233743Z
LAST-MODIFIED:20241230T233743Z
UID:2529-1756203300-1756205100@gwunder.reisen
SUMMARY:Buchstart | «Värsli-Bus»
DESCRIPTION:
URL:https://gwunder.reisen/event/buchstart-vaersli-bus-20/
LOCATION:Gemeindebibliothek Buchs AG
CATEGORIES:Buchstart
END:VEVENT
BEGIN:VEVENT
DTSTART;TZID=Europe/Berlin:20250826T091500
DTEND;TZID=Europe/Berlin:20250826T094500
DTSTAMP:20260419T141118
CREATED:20241230T233610Z
LAST-MODIFIED:20241230T233610Z
UID:2527-1756199700-1756201500@gwunder.reisen
SUMMARY:Buchstart | «Värsli-Bus»
DESCRIPTION:
URL:https://gwunder.reisen/event/buchstart-vaersli-bus-19/
LOCATION:Gemeindebibliothek Buchs AG
CATEGORIES:Buchstart
END:VEVENT
BEGIN:VEVENT
DTSTART;TZID=Europe/Berlin:20250823T090000
DTEND;TZID=Europe/Berlin:20250823T093000
DTSTAMP:20260419T141118
CREATED:20241230T224025Z
LAST-MODIFIED:20250302T211027Z
UID:2441-1755939600-1755941400@gwunder.reisen
SUMMARY:Buchstart | «Lirum\, Larum\, Reim & Spiel»
DESCRIPTION:
URL:https://gwunder.reisen/event/buchstart-lirum-larum-reim-spiel-4/
LOCATION:Schul- und Gemeindebibliothek Rothrist
CATEGORIES:Buchstart
END:VEVENT
BEGIN:VEVENT
DTSTART;TZID=Europe/Berlin:20250820T103000
DTEND;TZID=Europe/Berlin:20250820T110000
DTSTAMP:20260419T141118
CREATED:20250302T205758Z
LAST-MODIFIED:20250302T210916Z
UID:2627-1755685800-1755687600@gwunder.reisen
SUMMARY:Buchstart | "Buchstartmorgen"
DESCRIPTION:
URL:https://gwunder.reisen/event/buchstart-buchstartmorgen-25/
LOCATION:Stadtbibliothek Lenzburg
CATEGORIES:Buchstart
END:VEVENT
BEGIN:VEVENT
DTSTART;TZID=Europe/Berlin:20250820T093000
DTEND;TZID=Europe/Berlin:20250820T100000
DTSTAMP:20260419T141118
CREATED:20250302T205710Z
LAST-MODIFIED:20250302T210950Z
UID:2625-1755682200-1755684000@gwunder.reisen
SUMMARY:Buchstart | "Buchstartmorgen"
DESCRIPTION:
URL:https://gwunder.reisen/event/buchstart-buchstartmorgen-24/
LOCATION:Stadtbibliothek Lenzburg
CATEGORIES:Buchstart
END:VEVENT
BEGIN:VEVENT
DTSTART;TZID=Europe/Berlin:20250819T100000
DTEND;TZID=Europe/Berlin:20250819T100000
DTSTAMP:20260419T141118
CREATED:20241230T223343Z
LAST-MODIFIED:20241230T223343Z
UID:2431-1755597600-1755597600@gwunder.reisen
SUMMARY:Buchstart | «Lirum Larum Verslispiele»
DESCRIPTION:
URL:https://gwunder.reisen/event/buchstart-lirum-larum-verslispiele-3/
LOCATION:Bibliothek Mellingen
CATEGORIES:Buchstart
END:VEVENT
BEGIN:VEVENT
DTSTART;TZID=Europe/Berlin:20250618T103000
DTEND;TZID=Europe/Berlin:20250618T113000
DTSTAMP:20260419T141118
CREATED:20240417T120521Z
LAST-MODIFIED:20240530T172546Z
UID:2319-1750242600-1750246200@gwunder.reisen
SUMMARY:Buchstart | "Buchstartmorgen"
DESCRIPTION:
URL:https://gwunder.reisen/event/buchstart-buchstartmorgen-17/
LOCATION:Stadtbibliothek Lenzburg
CATEGORIES:Buchstart
END:VEVENT
BEGIN:VEVENT
DTSTART;TZID=Europe/Berlin:20250618T093000
DTEND;TZID=Europe/Berlin:20250618T103000
DTSTAMP:20260419T141118
CREATED:20240417T120447Z
LAST-MODIFIED:20240530T172515Z
UID:2317-1750239000-1750242600@gwunder.reisen
SUMMARY:Buchstart | "Buchstartmorgen"
DESCRIPTION:
URL:https://gwunder.reisen/event/buchstart-buchstartmorgen-16/
LOCATION:Stadtbibliothek Lenzburg
CATEGORIES:Buchstart
END:VEVENT
BEGIN:VEVENT
DTSTART;TZID=Europe/Berlin:20250610T101500
DTEND;TZID=Europe/Berlin:20250610T104500
DTSTAMP:20260419T141118
CREATED:20241230T233527Z
LAST-MODIFIED:20241230T233527Z
UID:2525-1749550500-1749552300@gwunder.reisen
SUMMARY:Buchstart | «Värsli-Bus»
DESCRIPTION:
URL:https://gwunder.reisen/event/buchstart-vaersli-bus-18/
LOCATION:Gemeindebibliothek Buchs AG
CATEGORIES:Buchstart
END:VEVENT
BEGIN:VEVENT
DTSTART;TZID=Europe/Berlin:20250610T091500
DTEND;TZID=Europe/Berlin:20250610T094500
DTSTAMP:20260419T141118
CREATED:20241230T233447Z
LAST-MODIFIED:20241230T233447Z
UID:2523-1749546900-1749548700@gwunder.reisen
SUMMARY:Buchstart | «Värsli-Bus»
DESCRIPTION:
URL:https://gwunder.reisen/event/buchstart-vaersli-bus-17/
LOCATION:Gemeindebibliothek Buchs AG
CATEGORIES:Buchstart
END:VEVENT
BEGIN:VEVENT
DTSTART;TZID=Europe/Berlin:20250606T093000
DTEND;TZID=Europe/Berlin:20250606T093000
DTSTAMP:20260419T141118
CREATED:20241230T222617Z
LAST-MODIFIED:20241230T222617Z
UID:2419-1749202200-1749202200@gwunder.reisen
SUMMARY:Buchstart | «Zwärgehöck»
DESCRIPTION:
URL:https://gwunder.reisen/event/buchstart-zwaergehoeck-2/
LOCATION:Gemeinde- und Oberstufenbibliothek Reinach AG
CATEGORIES:Buchstart
END:VEVENT
BEGIN:VEVENT
DTSTART;TZID=Europe/Berlin:20250527T100000
DTEND;TZID=Europe/Berlin:20250527T100000
DTSTAMP:20260419T141118
CREATED:20241230T223302Z
LAST-MODIFIED:20241230T223302Z
UID:2429-1748340000-1748340000@gwunder.reisen
SUMMARY:Buchstart | «Lirum Larum Verslispiele»
DESCRIPTION:
URL:https://gwunder.reisen/event/buchstart-lirum-larum-verslispiele-2/
LOCATION:Bibliothek Mellingen
CATEGORIES:Buchstart
END:VEVENT
END:VCALENDAR