BEGIN:VCALENDAR
VERSION:2.0
PRODID:-//gwunder.reisen - ECPv6.15.20//NONSGML v1.0//EN
CALSCALE:GREGORIAN
METHOD:PUBLISH
X-WR-CALNAME:gwunder.reisen
X-ORIGINAL-URL:https://gwunder.reisen
X-WR-CALDESC:Veranstaltungen für gwunder.reisen
REFRESH-INTERVAL;VALUE=DURATION:PT1H
X-Robots-Tag:noindex
X-PUBLISHED-TTL:PT1H
BEGIN:VTIMEZONE
TZID:Europe/Berlin
BEGIN:DAYLIGHT
TZOFFSETFROM:+0100
TZOFFSETTO:+0200
TZNAME:CEST
DTSTART:20230326T010000
END:DAYLIGHT
BEGIN:STANDARD
TZOFFSETFROM:+0200
TZOFFSETTO:+0100
TZNAME:CET
DTSTART:20231029T010000
END:STANDARD
BEGIN:DAYLIGHT
TZOFFSETFROM:+0100
TZOFFSETTO:+0200
TZNAME:CEST
DTSTART:20240331T010000
END:DAYLIGHT
BEGIN:STANDARD
TZOFFSETFROM:+0200
TZOFFSETTO:+0100
TZNAME:CET
DTSTART:20241027T010000
END:STANDARD
BEGIN:DAYLIGHT
TZOFFSETFROM:+0100
TZOFFSETTO:+0200
TZNAME:CEST
DTSTART:20250330T010000
END:DAYLIGHT
BEGIN:STANDARD
TZOFFSETFROM:+0200
TZOFFSETTO:+0100
TZNAME:CET
DTSTART:20251026T010000
END:STANDARD
END:VTIMEZONE
BEGIN:VEVENT
DTSTART;TZID=Europe/Berlin:20240830T093000
DTEND;TZID=Europe/Berlin:20240830T093000
DTSTAMP:20260420T064344
CREATED:20240102T234558Z
LAST-MODIFIED:20240417T120853Z
UID:1898-1725010200-1725010200@gwunder.reisen
SUMMARY:Buchstart | "Zwärgehöck"
DESCRIPTION:
URL:https://gwunder.reisen/event/zwaergehoeck-reinach-3/
LOCATION:Gemeinde- und Oberstufenbibliothek Reinach AG
CATEGORIES:Buchstart
END:VEVENT
BEGIN:VEVENT
DTSTART;TZID=Europe/Berlin:20240828T103000
DTEND;TZID=Europe/Berlin:20240828T110000
DTSTAMP:20260420T064344
CREATED:20240417T115830Z
LAST-MODIFIED:20240708T095840Z
UID:2294-1724841000-1724842800@gwunder.reisen
SUMMARY:Buchstart | "Buchstartmorgen"
DESCRIPTION:
URL:https://gwunder.reisen/event/buchstart-buchstartmorgen-5/
LOCATION:Stadtbibliothek Lenzburg
CATEGORIES:Buchstart
END:VEVENT
BEGIN:VEVENT
DTSTART;TZID=Europe/Berlin:20240828T093000
DTEND;TZID=Europe/Berlin:20240828T100000
DTSTAMP:20260420T064344
CREATED:20240417T115748Z
LAST-MODIFIED:20240708T095748Z
UID:2292-1724837400-1724839200@gwunder.reisen
SUMMARY:Buchstart | "Buchstartmorgen"
DESCRIPTION:
URL:https://gwunder.reisen/event/buchstart-buchstartmorgen-4/
LOCATION:Stadtbibliothek Lenzburg
CATEGORIES:Buchstart
END:VEVENT
BEGIN:VEVENT
DTSTART;TZID=Europe/Berlin:20240824T090000
DTEND;TZID=Europe/Berlin:20240824T090000
DTSTAMP:20260420T064344
CREATED:20240102T235806Z
LAST-MODIFIED:20240417T112953Z
UID:1918-1724490000-1724490000@gwunder.reisen
SUMMARY:Buchstart | "Lirum Larum - Reim & Spiel"
DESCRIPTION:
URL:https://gwunder.reisen/event/lirum-larum-reim-spiel-rothrist-4/
LOCATION:Schul- und Gemeindebibliothek Rothrist
CATEGORIES:Buchstart
END:VEVENT
BEGIN:VEVENT
DTSTART;TZID=Europe/Berlin:20240821T103000
DTEND;TZID=Europe/Berlin:20240821T110000
DTSTAMP:20260420T064344
CREATED:20240417T114552Z
LAST-MODIFIED:20240708T095618Z
UID:2272-1724236200-1724238000@gwunder.reisen
SUMMARY:Buchstart | "Värslimorge"
DESCRIPTION:
URL:https://gwunder.reisen/event/buchstart-vaerslimorge/
LOCATION:Stadtbibliothek Zofingen
CATEGORIES:Buchstart
END:VEVENT
BEGIN:VEVENT
DTSTART;TZID=Europe/Berlin:20240821T093000
DTEND;TZID=Europe/Berlin:20240821T100000
DTSTAMP:20260420T064344
CREATED:20240102T233222Z
LAST-MODIFIED:20240708T095523Z
UID:1874-1724232600-1724234400@gwunder.reisen
SUMMARY:Buchstart | "Värslimorge"
DESCRIPTION:
URL:https://gwunder.reisen/event/vaerslimorge-in-zofingen-3/
LOCATION:Stadtbibliothek Zofingen
CATEGORIES:Buchstart
END:VEVENT
BEGIN:VEVENT
DTSTART;TZID=Europe/Berlin:20240820T101500
DTEND;TZID=Europe/Berlin:20240820T104500
DTSTAMP:20260420T064344
CREATED:20240417T110851Z
LAST-MODIFIED:20240708T095350Z
UID:2223-1724148900-1724150700@gwunder.reisen
SUMMARY:Buchstart | "Värsli-Bus"
DESCRIPTION:
URL:https://gwunder.reisen/event/buchstart-vaersli-bus-5/
LOCATION:Gemeindebibliothek Buchs AG
CATEGORIES:Buchstart
END:VEVENT
BEGIN:VEVENT
DTSTART;TZID=Europe/Berlin:20240820T091500
DTEND;TZID=Europe/Berlin:20240820T094500
DTSTAMP:20260420T064344
CREATED:20240102T222048Z
LAST-MODIFIED:20240708T095313Z
UID:1752-1724145300-1724147100@gwunder.reisen
SUMMARY:Buchstart | "Värsli-Bus"
DESCRIPTION:
URL:https://gwunder.reisen/event/vaersli-bus-buchs-5/
LOCATION:Gemeindebibliothek Buchs AG
CATEGORIES:Buchstart
END:VEVENT
BEGIN:VEVENT
DTSTART;TZID=Europe/Berlin:20240621T103000
DTEND;TZID=Europe/Berlin:20240621T103000
DTSTAMP:20260420T064344
CREATED:20240417T113800Z
LAST-MODIFIED:20240417T113842Z
UID:2259-1718965800-1718965800@gwunder.reisen
SUMMARY:Buchstart | "Gigampfe\, Värsli stampfe"
DESCRIPTION:
URL:https://gwunder.reisen/event/buchstart-gigampfe-vaersli-stampfe-5/
LOCATION:Stadtbibliothek Aarau
CATEGORIES:Buchstart
END:VEVENT
BEGIN:VEVENT
DTSTART;TZID=Europe/Berlin:20240621T093000
DTEND;TZID=Europe/Berlin:20240621T093000
DTSTAMP:20260420T064344
CREATED:20240102T230657Z
LAST-MODIFIED:20240417T121854Z
UID:1826-1718962200-1718962200@gwunder.reisen
SUMMARY:Buchstart | "Gigampfe\, Värsli stampfe"
DESCRIPTION:
URL:https://gwunder.reisen/event/gigampfe-vaersli-stampfe-in-aarau-15/
LOCATION:Stadtbibliothek Aarau
CATEGORIES:Buchstart
END:VEVENT
BEGIN:VEVENT
DTSTART;TZID=Europe/Berlin:20240619T093000
DTEND;TZID=Europe/Berlin:20240619T093000
DTSTAMP:20260420T064344
CREATED:20240102T220353Z
LAST-MODIFIED:20240417T121159Z
UID:1726-1718789400-1718789400@gwunder.reisen
SUMMARY:Buchstart | "Buchstartmorgen"
DESCRIPTION:
URL:https://gwunder.reisen/event/buchstartmorgen-lenzburg-3/
LOCATION:Stadtbibliothek Lenzburg
CATEGORIES:Buchstart
END:VEVENT
BEGIN:VEVENT
DTSTART;TZID=Europe/Berlin:20240615T090000
DTEND;TZID=Europe/Berlin:20240615T090000
DTSTAMP:20260420T064344
CREATED:20240102T235733Z
LAST-MODIFIED:20240417T113002Z
UID:1916-1718442000-1718442000@gwunder.reisen
SUMMARY:Buchstart | "Lirum Larum - Reim & Spiel"
DESCRIPTION:
URL:https://gwunder.reisen/event/lirum-larum-reim-spiel-rothrist-3/
LOCATION:Schul- und Gemeindebibliothek Rothrist
CATEGORIES:Buchstart
END:VEVENT
BEGIN:VEVENT
DTSTART;TZID=Europe/Berlin:20240611T091500
DTEND;TZID=Europe/Berlin:20240611T091500
DTSTAMP:20260420T064344
CREATED:20240102T222013Z
LAST-MODIFIED:20240417T122302Z
UID:1750-1718097300-1718097300@gwunder.reisen
SUMMARY:Buchstart | "Värsli-Bus"
DESCRIPTION:
URL:https://gwunder.reisen/event/vaersli-bus-buchs-4/
LOCATION:Gemeindebibliothek Buchs AG
CATEGORIES:Buchstart
END:VEVENT
BEGIN:VEVENT
DTSTART;TZID=Europe/Berlin:20240607T093000
DTEND;TZID=Europe/Berlin:20240607T093000
DTSTAMP:20260420T064344
CREATED:20240102T234529Z
LAST-MODIFIED:20240417T120911Z
UID:1896-1717752600-1717752600@gwunder.reisen
SUMMARY:Buchstart | "Zwärgehöck"
DESCRIPTION:
URL:https://gwunder.reisen/event/zwaergehoeck-reinach-2/
LOCATION:Gemeinde- und Oberstufenbibliothek Reinach AG
CATEGORIES:Buchstart
END:VEVENT
BEGIN:VEVENT
DTSTART;TZID=Europe/Berlin:20240605T103000
DTEND;TZID=Europe/Berlin:20240605T110000
DTSTAMP:20260420T064344
CREATED:20240417T114852Z
LAST-MODIFIED:20240530T173059Z
UID:2278-1717583400-1717585200@gwunder.reisen
SUMMARY:Buchstart | "Gigampfe\, Värsli stampfe"
DESCRIPTION:
URL:https://gwunder.reisen/event/buchstart-gigampfe-vaersli-stampfe-8/
LOCATION:Stadtbibliothek Aarau
CATEGORIES:Buchstart
END:VEVENT
BEGIN:VEVENT
DTSTART;TZID=Europe/Berlin:20240605T093000
DTEND;TZID=Europe/Berlin:20240605T100000
DTSTAMP:20260420T064344
CREATED:20240102T230613Z
LAST-MODIFIED:20240530T173108Z
UID:1824-1717579800-1717581600@gwunder.reisen
SUMMARY:Buchstart | "Gigampfe\, Värsli stampfe"
DESCRIPTION:
URL:https://gwunder.reisen/event/gigampfe-vaersli-stampfe-in-aarau-14/
LOCATION:Stadtbibliothek Aarau
CATEGORIES:Buchstart
END:VEVENT
BEGIN:VEVENT
DTSTART;TZID=Europe/Berlin:20240522T093000
DTEND;TZID=Europe/Berlin:20240522T093000
DTSTAMP:20260420T064344
CREATED:20240102T220210Z
LAST-MODIFIED:20240417T121048Z
UID:1724-1716370200-1716370200@gwunder.reisen
SUMMARY:Buchstart | "Buchstartmorgen"
DESCRIPTION:
URL:https://gwunder.reisen/event/buchstartmorgen-lenzburg-2/
LOCATION:Stadtbibliothek Lenzburg
CATEGORIES:Buchstart
END:VEVENT
BEGIN:VEVENT
DTSTART;TZID=Europe/Berlin:20240521T093000
DTEND;TZID=Europe/Berlin:20240521T093000
DTSTAMP:20260420T064344
CREATED:20240102T233141Z
LAST-MODIFIED:20240417T122817Z
UID:1872-1716283800-1716283800@gwunder.reisen
SUMMARY:Buchstart | "Värslimorge"
DESCRIPTION:  \n 
URL:https://gwunder.reisen/event/vaerslimorge-in-zofingen-2/
LOCATION:Stadtbibliothek Zofingen
CATEGORIES:Buchstart
END:VEVENT
BEGIN:VEVENT
DTSTART;TZID=Europe/Berlin:20240514T091500
DTEND;TZID=Europe/Berlin:20240514T091500
DTSTAMP:20260420T064344
CREATED:20240102T221945Z
LAST-MODIFIED:20240417T122213Z
UID:1748-1715678100-1715678100@gwunder.reisen
SUMMARY:Buchstart | "Värsli-Bus"
DESCRIPTION:
URL:https://gwunder.reisen/event/vaersli-bus-buchs-3/
LOCATION:Gemeindebibliothek Buchs AG
CATEGORIES:Buchstart
END:VEVENT
BEGIN:VEVENT
DTSTART;TZID=Europe/Berlin:20240508T100000
DTEND;TZID=Europe/Berlin:20240508T100000
DTSTAMP:20260420T064344
CREATED:20240102T231643Z
LAST-MODIFIED:20240417T122116Z
UID:1842-1715162400-1715162400@gwunder.reisen
SUMMARY:Buchstart | "Värslizyt"
DESCRIPTION:
URL:https://gwunder.reisen/event/vaerslizyt-in-brugg-3/
LOCATION:Stadtbibliothek Brugg
CATEGORIES:Buchstart
END:VEVENT
BEGIN:VEVENT
DTSTART;TZID=Europe/Berlin:20240320T093000
DTEND;TZID=Europe/Berlin:20240320T093000
DTSTAMP:20260420T064344
CREATED:20240102T215807Z
LAST-MODIFIED:20240417T121025Z
UID:1722-1710927000-1710927000@gwunder.reisen
SUMMARY:Buchstart | "Buchstartmorgen"
DESCRIPTION:
URL:https://gwunder.reisen/event/buchstartmorgen-lenzburg/
LOCATION:Stadtbibliothek Lenzburg
CATEGORIES:Buchstart
END:VEVENT
BEGIN:VEVENT
DTSTART;TZID=Europe/Berlin:20240319T101500
DTEND;TZID=Europe/Berlin:20240319T101500
DTSTAMP:20260420T064344
CREATED:20240417T115026Z
LAST-MODIFIED:20240417T122205Z
UID:2281-1710843300-1710843300@gwunder.reisen
SUMMARY:Buchstart | "Värsli-Bus"
DESCRIPTION:
URL:https://gwunder.reisen/event/buchstart-vaersli-bus-8/
LOCATION:Gemeindebibliothek Buchs AG
CATEGORIES:Buchstart
END:VEVENT
BEGIN:VEVENT
DTSTART;TZID=Europe/Berlin:20240319T091500
DTEND;TZID=Europe/Berlin:20240319T091500
DTSTAMP:20260420T064344
CREATED:20240102T221912Z
LAST-MODIFIED:20240417T122157Z
UID:1746-1710839700-1710839700@gwunder.reisen
SUMMARY:Buchstart | "Värsli-Bus"
DESCRIPTION:
URL:https://gwunder.reisen/event/vaersli-bus-buchs-2/
LOCATION:Gemeindebibliothek Buchs AG
CATEGORIES:Buchstart
END:VEVENT
BEGIN:VEVENT
DTSTART;TZID=Europe/Berlin:20240315T093000
DTEND;TZID=Europe/Berlin:20240315T093000
DTSTAMP:20260420T064344
CREATED:20240102T234454Z
LAST-MODIFIED:20240417T120943Z
UID:1891-1710495000-1710495000@gwunder.reisen
SUMMARY:Buchstart | "Zwärgehöck"
DESCRIPTION:
URL:https://gwunder.reisen/event/zwaergehoeck-reinach/
LOCATION:Gemeinde- und Oberstufenbibliothek Reinach AG
CATEGORIES:Buchstart
END:VEVENT
BEGIN:VEVENT
DTSTART;TZID=Europe/Berlin:20240313T100000
DTEND;TZID=Europe/Berlin:20240313T100000
DTSTAMP:20260420T064344
CREATED:20240102T231611Z
LAST-MODIFIED:20240417T122130Z
UID:1840-1710324000-1710324000@gwunder.reisen
SUMMARY:Buchstart | "Värslizyt"
DESCRIPTION:
URL:https://gwunder.reisen/event/vaerslizyt-in-brugg-2/
LOCATION:Stadtbibliothek Brugg
CATEGORIES:Buchstart
END:VEVENT
BEGIN:VEVENT
DTSTART;TZID=Europe/Berlin:20240310T103000
DTEND;TZID=Europe/Berlin:20240310T103000
DTSTAMP:20260420T064344
CREATED:20240102T230541Z
LAST-MODIFIED:20240417T121943Z
UID:1822-1710066600-1710066600@gwunder.reisen
SUMMARY:Buchstart | "Gigampfe\, Värsli stampfe"
DESCRIPTION:
URL:https://gwunder.reisen/event/gigampfe-vaersli-stampfe-in-aarau-13/
LOCATION:Stadtbibliothek Aarau
CATEGORIES:Buchstart
END:VEVENT
BEGIN:VEVENT
DTSTART;TZID=Europe/Berlin:20240302T090000
DTEND;TZID=Europe/Berlin:20240302T090000
DTSTAMP:20260420T064344
CREATED:20240102T235653Z
LAST-MODIFIED:20240417T112850Z
UID:1914-1709370000-1709370000@gwunder.reisen
SUMMARY:Buchstart | "Lirum Larum - Reim & Spiel"
DESCRIPTION:
URL:https://gwunder.reisen/event/lirum-larum-reim-spiel-rothrist-2/
LOCATION:Schul- und Gemeindebibliothek Rothrist
CATEGORIES:Buchstart
END:VEVENT
BEGIN:VEVENT
DTSTART;TZID=Europe/Berlin:20240127T090000
DTEND;TZID=Europe/Berlin:20240127T094500
DTSTAMP:20260420T064344
CREATED:20240102T235409Z
LAST-MODIFIED:20240417T113025Z
UID:1910-1706346000-1706348700@gwunder.reisen
SUMMARY:Lirum Larum - Reim & Spiel Rothrist
DESCRIPTION:Buchstartveranstaltung für Kinder von ca. 9 Monaten bis 3 Jahren mit einer Bezugsperson. \nEine kurze Geschichte\, illustriert mit Fingerversen\, Gedichten und Liedern\, die zu Hause nachgespielt werden können \n \nmit Anmeldung via Bibliothek: info@bibliothek-rothrist.ch \n2024 Flyer Buchstart Rothrist
URL:https://gwunder.reisen/event/lirum-larum-reim-spiel-rothrist/
LOCATION:Schul- und Gemeindebibliothek Rothrist
CATEGORIES:Buchstart
END:VEVENT
END:VCALENDAR