BEGIN:VCALENDAR
VERSION:2.0
PRODID:-//gwunder.reisen - ECPv6.15.20//NONSGML v1.0//EN
CALSCALE:GREGORIAN
METHOD:PUBLISH
X-WR-CALNAME:gwunder.reisen
X-ORIGINAL-URL:https://gwunder.reisen
X-WR-CALDESC:Veranstaltungen für gwunder.reisen
REFRESH-INTERVAL;VALUE=DURATION:PT1H
X-Robots-Tag:noindex
X-PUBLISHED-TTL:PT1H
BEGIN:VTIMEZONE
TZID:Europe/Berlin
BEGIN:DAYLIGHT
TZOFFSETFROM:+0100
TZOFFSETTO:+0200
TZNAME:CEST
DTSTART:20230326T010000
END:DAYLIGHT
BEGIN:STANDARD
TZOFFSETFROM:+0200
TZOFFSETTO:+0100
TZNAME:CET
DTSTART:20231029T010000
END:STANDARD
BEGIN:DAYLIGHT
TZOFFSETFROM:+0100
TZOFFSETTO:+0200
TZNAME:CEST
DTSTART:20240331T010000
END:DAYLIGHT
BEGIN:STANDARD
TZOFFSETFROM:+0200
TZOFFSETTO:+0100
TZNAME:CET
DTSTART:20241027T010000
END:STANDARD
BEGIN:DAYLIGHT
TZOFFSETFROM:+0100
TZOFFSETTO:+0200
TZNAME:CEST
DTSTART:20250330T010000
END:DAYLIGHT
BEGIN:STANDARD
TZOFFSETFROM:+0200
TZOFFSETTO:+0100
TZNAME:CET
DTSTART:20251026T010000
END:STANDARD
END:VTIMEZONE
BEGIN:VEVENT
DTSTART;TZID=Europe/Berlin:20241207T090000
DTEND;TZID=Europe/Berlin:20241207T090000
DTSTAMP:20260420T033014
CREATED:20240102T235916Z
LAST-MODIFIED:20240417T112926Z
UID:1922-1733562000-1733562000@gwunder.reisen
SUMMARY:Buchstart | "Lirum Larum - Reim & Spiel"
DESCRIPTION:
URL:https://gwunder.reisen/event/lirum-larum-reim-spiel-rothrist-6/
LOCATION:Schul- und Gemeindebibliothek Rothrist
CATEGORIES:Buchstart
END:VEVENT
BEGIN:VEVENT
DTSTART;TZID=Europe/Berlin:20241120T103000
DTEND;TZID=Europe/Berlin:20241120T110000
DTSTAMP:20260420T033014
CREATED:20240417T120038Z
LAST-MODIFIED:20240708T114542Z
UID:2303-1732098600-1732100400@gwunder.reisen
SUMMARY:Buchstart | "Buchstartmorgen"
DESCRIPTION:
URL:https://gwunder.reisen/event/buchstart-buchstartmorgen-9/
LOCATION:Stadtbibliothek Lenzburg
CATEGORIES:Buchstart
END:VEVENT
BEGIN:VEVENT
DTSTART;TZID=Europe/Berlin:20241120T093000
DTEND;TZID=Europe/Berlin:20241120T100000
DTSTAMP:20260420T033014
CREATED:20240417T120007Z
LAST-MODIFIED:20240708T114517Z
UID:2301-1732095000-1732096800@gwunder.reisen
SUMMARY:Buchstart | "Buchstartmorgen"
DESCRIPTION:
URL:https://gwunder.reisen/event/buchstart-buchstartmorgen-8/
LOCATION:Stadtbibliothek Lenzburg
CATEGORIES:Buchstart
END:VEVENT
BEGIN:VEVENT
DTSTART;TZID=Europe/Berlin:20241119T101500
DTEND;TZID=Europe/Berlin:20241119T104500
DTSTAMP:20260420T033014
CREATED:20240417T110334Z
LAST-MODIFIED:20240708T114426Z
UID:2212-1732011300-1732013100@gwunder.reisen
SUMMARY:Buchstart | "Värsli-Bus"
DESCRIPTION:
URL:https://gwunder.reisen/event/buchstart-vaersli-bus-2/
LOCATION:Gemeindebibliothek Buchs AG
CATEGORIES:Buchstart
END:VEVENT
BEGIN:VEVENT
DTSTART;TZID=Europe/Berlin:20241119T091500
DTEND;TZID=Europe/Berlin:20241119T094500
DTSTAMP:20260420T033014
CREATED:20240102T222223Z
LAST-MODIFIED:20240708T114357Z
UID:1758-1732007700-1732009500@gwunder.reisen
SUMMARY:Buchstart | "Värsli-Bus"
DESCRIPTION:
URL:https://gwunder.reisen/event/vaersli-bus-buchs-8/
LOCATION:Gemeindebibliothek Buchs AG
CATEGORIES:Buchstart
END:VEVENT
BEGIN:VEVENT
DTSTART;TZID=Europe/Berlin:20241115T093000
DTEND;TZID=Europe/Berlin:20241115T093000
DTSTAMP:20260420T033014
CREATED:20240102T234629Z
LAST-MODIFIED:20240417T114155Z
UID:1900-1731663000-1731663000@gwunder.reisen
SUMMARY:Buchstart | "Zwärgehöck"
DESCRIPTION:
URL:https://gwunder.reisen/event/zwaergehoeck-reinach-4/
LOCATION:Gemeinde- und Oberstufenbibliothek Reinach AG
CATEGORIES:Buchstart
END:VEVENT
BEGIN:VEVENT
DTSTART;TZID=Europe/Berlin:20241113T100000
DTEND;TZID=Europe/Berlin:20241113T100000
DTSTAMP:20260420T033014
CREATED:20240102T231748Z
LAST-MODIFIED:20240417T122033Z
UID:1846-1731492000-1731492000@gwunder.reisen
SUMMARY:Buchstart | "Värslizyt"
DESCRIPTION:
URL:https://gwunder.reisen/event/vaerslizyt-in-brugg-5/
LOCATION:Stadtbibliothek Brugg
CATEGORIES:Buchstart
END:VEVENT
BEGIN:VEVENT
DTSTART;TZID=Europe/Berlin:20241110T113000
DTEND;TZID=Europe/Berlin:20241110T120000
DTSTAMP:20260420T033014
CREATED:20240417T113314Z
LAST-MODIFIED:20240708T114313Z
UID:2247-1731238200-1731240000@gwunder.reisen
SUMMARY:Buchstart | "Gigampfe\, Värsli stampfe"
DESCRIPTION:
URL:https://gwunder.reisen/event/buchstart-gigampfe-vaersli-stampfe/
LOCATION:Stadtbibliothek Aarau
CATEGORIES:Buchstart
END:VEVENT
BEGIN:VEVENT
DTSTART;TZID=Europe/Berlin:20241110T103000
DTEND;TZID=Europe/Berlin:20241110T110000
DTSTAMP:20260420T033014
CREATED:20240102T230927Z
LAST-MODIFIED:20240708T114249Z
UID:1834-1731234600-1731236400@gwunder.reisen
SUMMARY:Buchstart | "Gigampfe\, Värsli stampfe"
DESCRIPTION:
URL:https://gwunder.reisen/event/gigampfe-vaersli-stampfe-in-aarau-19/
LOCATION:Stadtbibliothek Aarau
CATEGORIES:Buchstart
END:VEVENT
BEGIN:VEVENT
DTSTART;TZID=Europe/Berlin:20241106T103000
DTEND;TZID=Europe/Berlin:20241106T110000
DTSTAMP:20260420T033014
CREATED:20240417T113428Z
LAST-MODIFIED:20240708T112925Z
UID:2250-1730889000-1730890800@gwunder.reisen
SUMMARY:Buchstart | "Gigampfe\, Värsli stampfe"
DESCRIPTION:
URL:https://gwunder.reisen/event/buchstart-gigampfe-vaersli-stampfe-2/
LOCATION:Stadtbibliothek Aarau
CATEGORIES:Buchstart
END:VEVENT
BEGIN:VEVENT
DTSTART;TZID=Europe/Berlin:20241106T093000
DTEND;TZID=Europe/Berlin:20241106T100000
DTSTAMP:20260420T033014
CREATED:20240102T230837Z
LAST-MODIFIED:20240708T112855Z
UID:1832-1730885400-1730887200@gwunder.reisen
SUMMARY:Buchstart | "Gigampfe\, Värsli stampfe"
DESCRIPTION:
URL:https://gwunder.reisen/event/gigampfe-vaersli-stampfe-in-aarau-18/
LOCATION:Stadtbibliothek Aarau
CATEGORIES:Buchstart
END:VEVENT
BEGIN:VEVENT
DTSTART;TZID=Europe/Berlin:20241023T103000
DTEND;TZID=Europe/Berlin:20241023T110000
DTSTAMP:20260420T033014
CREATED:20240417T115938Z
LAST-MODIFIED:20240708T101239Z
UID:2298-1729679400-1729681200@gwunder.reisen
SUMMARY:Buchstart | "Buchstartmorgen"
DESCRIPTION:
URL:https://gwunder.reisen/event/buchstart-buchstartmorgen-7/
LOCATION:Stadtbibliothek Lenzburg
CATEGORIES:Buchstart
END:VEVENT
BEGIN:VEVENT
DTSTART;TZID=Europe/Berlin:20241023T093000
DTEND;TZID=Europe/Berlin:20241023T100000
DTSTAMP:20260420T033014
CREATED:20240417T115912Z
LAST-MODIFIED:20240708T101215Z
UID:2296-1729675800-1729677600@gwunder.reisen
SUMMARY:Buchstart | "Buchstartmorgen"
DESCRIPTION:
URL:https://gwunder.reisen/event/buchstart-buchstartmorgen-6/
LOCATION:Stadtbibliothek Lenzburg
CATEGORIES:Buchstart
END:VEVENT
BEGIN:VEVENT
DTSTART;TZID=Europe/Berlin:20241022T101500
DTEND;TZID=Europe/Berlin:20241022T104500
DTSTAMP:20260420T033014
CREATED:20240417T110436Z
LAST-MODIFIED:20240708T101130Z
UID:2216-1729592100-1729593900@gwunder.reisen
SUMMARY:Buchstart | "Värsli-Bus"
DESCRIPTION:
URL:https://gwunder.reisen/event/buchstart-vaersli-bus-3/
LOCATION:Gemeindebibliothek Buchs AG
CATEGORIES:Buchstart
END:VEVENT
BEGIN:VEVENT
DTSTART;TZID=Europe/Berlin:20241022T091500
DTEND;TZID=Europe/Berlin:20241022T094500
DTSTAMP:20260420T033014
CREATED:20240102T222152Z
LAST-MODIFIED:20240708T101049Z
UID:1756-1729588500-1729590300@gwunder.reisen
SUMMARY:Buchstart | "Värsli-Bus"
DESCRIPTION:
URL:https://gwunder.reisen/event/vaersli-bus-buchs-7/
LOCATION:Gemeindebibliothek Buchs AG
CATEGORIES:Buchstart
END:VEVENT
BEGIN:VEVENT
DTSTART;TZID=Europe/Berlin:20241019T090000
DTEND;TZID=Europe/Berlin:20241019T090000
DTSTAMP:20260420T033014
CREATED:20240102T235840Z
LAST-MODIFIED:20240417T112937Z
UID:1920-1729328400-1729328400@gwunder.reisen
SUMMARY:Buchstart | "Lirum Larum - Reim & Spiel"
DESCRIPTION:
URL:https://gwunder.reisen/event/lirum-larum-reim-spiel-rothrist-5/
LOCATION:Schul- und Gemeindebibliothek Rothrist
CATEGORIES:Buchstart
END:VEVENT
BEGIN:VEVENT
DTSTART;TZID=Europe/Berlin:20241013T110000
DTEND;TZID=Europe/Berlin:20241013T114500
DTSTAMP:20260420T033014
CREATED:20240708T100932Z
LAST-MODIFIED:20240708T115315Z
UID:2346-1728817200-1728819900@gwunder.reisen
SUMMARY:Buchstart | "Geschichtenzeit 2 bis 3 Jahre"
DESCRIPTION:
URL:https://gwunder.reisen/event/geschichte-bobby-car-kino/
LOCATION:Kantonsbibliothek Baselland in Liestal
CATEGORIES:Buchstart
END:VEVENT
BEGIN:VEVENT
DTSTART;TZID=Europe/Berlin:20240920T103000
DTEND;TZID=Europe/Berlin:20240920T110000
DTSTAMP:20260420T033014
CREATED:20240417T113539Z
LAST-MODIFIED:20240708T100446Z
UID:2253-1726828200-1726830000@gwunder.reisen
SUMMARY:Buchstart | "Gigampfe\, Värsli stampfe"
DESCRIPTION:
URL:https://gwunder.reisen/event/buchstart-gigampfe-vaersli-stampfe-3/
LOCATION:Stadtbibliothek Aarau
CATEGORIES:Buchstart
END:VEVENT
BEGIN:VEVENT
DTSTART;TZID=Europe/Berlin:20240920T093000
DTEND;TZID=Europe/Berlin:20240920T100000
DTSTAMP:20260420T033014
CREATED:20240102T230803Z
LAST-MODIFIED:20240708T100405Z
UID:1830-1726824600-1726826400@gwunder.reisen
SUMMARY:Buchstart | "Gigampfe\, Värsli stampfe"
DESCRIPTION:
URL:https://gwunder.reisen/event/gigampfe-vaersli-stampfe-in-aarau-17/
LOCATION:Stadtbibliothek Aarau
CATEGORIES:Buchstart
END:VEVENT
BEGIN:VEVENT
DTSTART;TZID=Europe/Berlin:20240917T101500
DTEND;TZID=Europe/Berlin:20240917T104500
DTSTAMP:20260420T033014
CREATED:20240417T110755Z
LAST-MODIFIED:20240708T100219Z
UID:2220-1726568100-1726569900@gwunder.reisen
SUMMARY:Buchstart | "Värsli-Bus"
DESCRIPTION:
URL:https://gwunder.reisen/event/buchstart-vaersli-bus-4/
LOCATION:Gemeindebibliothek Buchs AG
CATEGORIES:Buchstart
END:VEVENT
BEGIN:VEVENT
DTSTART;TZID=Europe/Berlin:20240917T091500
DTEND;TZID=Europe/Berlin:20240917T094500
DTSTAMP:20260420T033014
CREATED:20240102T222121Z
LAST-MODIFIED:20240708T100134Z
UID:1754-1726564500-1726566300@gwunder.reisen
SUMMARY:Buchstart | "Värsli-Bus"
DESCRIPTION:
URL:https://gwunder.reisen/event/vaersli-bus-buchs-6/
LOCATION:Gemeindebibliothek Buchs AG
CATEGORIES:Buchstart
END:VEVENT
BEGIN:VEVENT
DTSTART;TZID=Europe/Berlin:20240911T100000
DTEND;TZID=Europe/Berlin:20240911T100000
DTSTAMP:20260420T033014
CREATED:20240102T231714Z
LAST-MODIFIED:20240417T122048Z
UID:1844-1726048800-1726048800@gwunder.reisen
SUMMARY:Buchstart | "Värslizyt"
DESCRIPTION:
URL:https://gwunder.reisen/event/vaerslizyt-in-brugg-4/
LOCATION:Stadtbibliothek Brugg
CATEGORIES:Buchstart
END:VEVENT
BEGIN:VEVENT
DTSTART;TZID=Europe/Berlin:20240904T103000
DTEND;TZID=Europe/Berlin:20240904T110000
DTSTAMP:20260420T033014
CREATED:20240417T113653Z
LAST-MODIFIED:20240708T100009Z
UID:2256-1725445800-1725447600@gwunder.reisen
SUMMARY:Buchstart | "Gigampfe\, Värsli stampfe"
DESCRIPTION:
URL:https://gwunder.reisen/event/buchstart-gigampfe-vaersli-stampfe-4/
LOCATION:Stadtbibliothek Aarau
CATEGORIES:Buchstart
END:VEVENT
BEGIN:VEVENT
DTSTART;TZID=Europe/Berlin:20240904T093000
DTEND;TZID=Europe/Berlin:20240904T100000
DTSTAMP:20260420T033014
CREATED:20240102T230730Z
LAST-MODIFIED:20240708T095939Z
UID:1828-1725442200-1725444000@gwunder.reisen
SUMMARY:Buchstart | "Gigampfe\, Värsli stampfe"
DESCRIPTION:
URL:https://gwunder.reisen/event/gigampfe-vaersli-stampfe-in-aarau-16/
LOCATION:Stadtbibliothek Aarau
CATEGORIES:Buchstart
END:VEVENT
BEGIN:VEVENT
DTSTART;TZID=Europe/Berlin:20240830T093000
DTEND;TZID=Europe/Berlin:20240830T093000
DTSTAMP:20260420T033014
CREATED:20240102T234558Z
LAST-MODIFIED:20240417T120853Z
UID:1898-1725010200-1725010200@gwunder.reisen
SUMMARY:Buchstart | "Zwärgehöck"
DESCRIPTION:
URL:https://gwunder.reisen/event/zwaergehoeck-reinach-3/
LOCATION:Gemeinde- und Oberstufenbibliothek Reinach AG
CATEGORIES:Buchstart
END:VEVENT
BEGIN:VEVENT
DTSTART;TZID=Europe/Berlin:20240828T103000
DTEND;TZID=Europe/Berlin:20240828T110000
DTSTAMP:20260420T033014
CREATED:20240417T115830Z
LAST-MODIFIED:20240708T095840Z
UID:2294-1724841000-1724842800@gwunder.reisen
SUMMARY:Buchstart | "Buchstartmorgen"
DESCRIPTION:
URL:https://gwunder.reisen/event/buchstart-buchstartmorgen-5/
LOCATION:Stadtbibliothek Lenzburg
CATEGORIES:Buchstart
END:VEVENT
BEGIN:VEVENT
DTSTART;TZID=Europe/Berlin:20240828T093000
DTEND;TZID=Europe/Berlin:20240828T100000
DTSTAMP:20260420T033014
CREATED:20240417T115748Z
LAST-MODIFIED:20240708T095748Z
UID:2292-1724837400-1724839200@gwunder.reisen
SUMMARY:Buchstart | "Buchstartmorgen"
DESCRIPTION:
URL:https://gwunder.reisen/event/buchstart-buchstartmorgen-4/
LOCATION:Stadtbibliothek Lenzburg
CATEGORIES:Buchstart
END:VEVENT
BEGIN:VEVENT
DTSTART;TZID=Europe/Berlin:20240824T090000
DTEND;TZID=Europe/Berlin:20240824T090000
DTSTAMP:20260420T033014
CREATED:20240102T235806Z
LAST-MODIFIED:20240417T112953Z
UID:1918-1724490000-1724490000@gwunder.reisen
SUMMARY:Buchstart | "Lirum Larum - Reim & Spiel"
DESCRIPTION:
URL:https://gwunder.reisen/event/lirum-larum-reim-spiel-rothrist-4/
LOCATION:Schul- und Gemeindebibliothek Rothrist
CATEGORIES:Buchstart
END:VEVENT
BEGIN:VEVENT
DTSTART;TZID=Europe/Berlin:20240821T103000
DTEND;TZID=Europe/Berlin:20240821T110000
DTSTAMP:20260420T033014
CREATED:20240417T114552Z
LAST-MODIFIED:20240708T095618Z
UID:2272-1724236200-1724238000@gwunder.reisen
SUMMARY:Buchstart | "Värslimorge"
DESCRIPTION:
URL:https://gwunder.reisen/event/buchstart-vaerslimorge/
LOCATION:Stadtbibliothek Zofingen
CATEGORIES:Buchstart
END:VEVENT
BEGIN:VEVENT
DTSTART;TZID=Europe/Berlin:20240821T093000
DTEND;TZID=Europe/Berlin:20240821T100000
DTSTAMP:20260420T033014
CREATED:20240102T233222Z
LAST-MODIFIED:20240708T095523Z
UID:1874-1724232600-1724234400@gwunder.reisen
SUMMARY:Buchstart | "Värslimorge"
DESCRIPTION:
URL:https://gwunder.reisen/event/vaerslimorge-in-zofingen-3/
LOCATION:Stadtbibliothek Zofingen
CATEGORIES:Buchstart
END:VEVENT
END:VCALENDAR